BEGIN:VCALENDAR
VERSION:2.0
PRODID:-//Iron Acton - ECPv6.15.20//NONSGML v1.0//EN
CALSCALE:GREGORIAN
METHOD:PUBLISH
X-WR-CALNAME:Iron Acton
X-ORIGINAL-URL:https://www.ironactonprimaryschool.co.uk
X-WR-CALDESC:Events for Iron Acton
REFRESH-INTERVAL;VALUE=DURATION:PT1H
X-Robots-Tag:noindex
X-PUBLISHED-TTL:PT1H
BEGIN:VTIMEZONE
TZID:Europe/London
BEGIN:DAYLIGHT
TZOFFSETFROM:+0000
TZOFFSETTO:+0100
TZNAME:BST
DTSTART:20210328T010000
END:DAYLIGHT
BEGIN:STANDARD
TZOFFSETFROM:+0100
TZOFFSETTO:+0000
TZNAME:GMT
DTSTART:20211031T010000
END:STANDARD
BEGIN:DAYLIGHT
TZOFFSETFROM:+0000
TZOFFSETTO:+0100
TZNAME:BST
DTSTART:20220327T010000
END:DAYLIGHT
BEGIN:STANDARD
TZOFFSETFROM:+0100
TZOFFSETTO:+0000
TZNAME:GMT
DTSTART:20221030T010000
END:STANDARD
BEGIN:DAYLIGHT
TZOFFSETFROM:+0000
TZOFFSETTO:+0100
TZNAME:BST
DTSTART:20230326T010000
END:DAYLIGHT
BEGIN:STANDARD
TZOFFSETFROM:+0100
TZOFFSETTO:+0000
TZNAME:GMT
DTSTART:20231029T010000
END:STANDARD
BEGIN:DAYLIGHT
TZOFFSETFROM:+0000
TZOFFSETTO:+0100
TZNAME:BST
DTSTART:20240331T010000
END:DAYLIGHT
BEGIN:STANDARD
TZOFFSETFROM:+0100
TZOFFSETTO:+0000
TZNAME:GMT
DTSTART:20241027T010000
END:STANDARD
END:VTIMEZONE
BEGIN:VEVENT
DTSTART;TZID=Europe/London:20221217T080000
DTEND;TZID=Europe/London:20230102T170000
DTSTAMP:20260423T173444
CREATED:20220721T110312Z
LAST-MODIFIED:20220721T110312Z
UID:7401-1671264000-1672678800@www.ironactonprimaryschool.co.uk
SUMMARY:Christmas break
DESCRIPTION:
URL:https://www.ironactonprimaryschool.co.uk/event/christmas-break-6/
END:VEVENT
BEGIN:VEVENT
DTSTART;TZID=Europe/London:20221216T180000
DTEND;TZID=Europe/London:20221216T200000
DTSTAMP:20260423T173444
CREATED:20221018T074246Z
LAST-MODIFIED:20221018T074246Z
UID:7718-1671213600-1671220800@www.ironactonprimaryschool.co.uk
SUMMARY:Friends Christmas Disco
DESCRIPTION:
URL:https://www.ironactonprimaryschool.co.uk/event/friends-christmas-disco/
LOCATION:Iron Acton Village Hall
END:VEVENT
BEGIN:VEVENT
DTSTART;TZID=Europe/London:20221215T130000
DTEND;TZID=Europe/London:20221215T150000
DTSTAMP:20260423T173444
CREATED:20221207T141620Z
LAST-MODIFIED:20221207T141720Z
UID:7810-1671109200-1671116400@www.ironactonprimaryschool.co.uk
SUMMARY:Class Christmas Parties
DESCRIPTION:
URL:https://www.ironactonprimaryschool.co.uk/event/class-christmas-parties/
END:VEVENT
BEGIN:VEVENT
DTSTART;TZID=Europe/London:20221215T120000
DTEND;TZID=Europe/London:20221215T130000
DTSTAMP:20260423T173444
CREATED:20221103T102503Z
LAST-MODIFIED:20221103T102503Z
UID:7768-1671105600-1671109200@www.ironactonprimaryschool.co.uk
SUMMARY:Christmas Lunch
DESCRIPTION:
URL:https://www.ironactonprimaryschool.co.uk/event/christmas-lunch-4/
END:VEVENT
BEGIN:VEVENT
DTSTART;TZID=Europe/London:20221214T173000
DTEND;TZID=Europe/London:20221214T183000
DTSTAMP:20260423T173444
CREATED:20220721T113955Z
LAST-MODIFIED:20220721T113955Z
UID:7431-1671039000-1671042600@www.ironactonprimaryschool.co.uk
SUMMARY:Key Stage 2 Performance
DESCRIPTION:
URL:https://www.ironactonprimaryschool.co.uk/event/key-stage-2-performance-2/
END:VEVENT
BEGIN:VEVENT
DTSTART;TZID=Europe/London:20221214T131500
DTEND;TZID=Europe/London:20221214T143000
DTSTAMP:20260423T173444
CREATED:20220721T113857Z
LAST-MODIFIED:20220721T113857Z
UID:7429-1671023700-1671028200@www.ironactonprimaryschool.co.uk
SUMMARY:Key Stage 2 Performance
DESCRIPTION:
URL:https://www.ironactonprimaryschool.co.uk/event/key-stage-2-performance/
END:VEVENT
BEGIN:VEVENT
DTSTART;TZID=Europe/London:20221214T080000
DTEND;TZID=Europe/London:20221214T090000
DTSTAMP:20260423T173444
CREATED:20221207T141515Z
LAST-MODIFIED:20221207T141520Z
UID:7808-1671004800-1671008400@www.ironactonprimaryschool.co.uk
SUMMARY:Coffee and Mince Pies
DESCRIPTION:
URL:https://www.ironactonprimaryschool.co.uk/event/coffee-and-mince-pies/
END:VEVENT
BEGIN:VEVENT
DTSTART;TZID=Europe/London:20221211T160000
DTEND;TZID=Europe/London:20221211T170000
DTSTAMP:20260423T173444
CREATED:20221007T152614Z
LAST-MODIFIED:20221007T152647Z
UID:7673-1670774400-1670778000@www.ironactonprimaryschool.co.uk
SUMMARY:Christingle Family Service
DESCRIPTION:
URL:https://www.ironactonprimaryschool.co.uk/event/christingle-family-service/
END:VEVENT
BEGIN:VEVENT
DTSTART;TZID=Europe/London:20221209T140000
DTEND;TZID=Europe/London:20221209T150000
DTSTAMP:20260423T173444
CREATED:20220721T113741Z
LAST-MODIFIED:20220721T113741Z
UID:7427-1670594400-1670598000@www.ironactonprimaryschool.co.uk
SUMMARY:Christingle Service
DESCRIPTION:
URL:https://www.ironactonprimaryschool.co.uk/event/christingle-service-6/
END:VEVENT
BEGIN:VEVENT
DTSTART;VALUE=DATE:20221208
DTEND;VALUE=DATE:20221209
DTSTAMP:20260423T173444
CREATED:20221111T140541Z
LAST-MODIFIED:20221111T140616Z
UID:7796-1670457600-1670543999@www.ironactonprimaryschool.co.uk
SUMMARY:Blonde Angel Christmas Appeal Collection
DESCRIPTION:
URL:https://www.ironactonprimaryschool.co.uk/event/blonde-angel-christmas-appeal-collection/
END:VEVENT
BEGIN:VEVENT
DTSTART;TZID=Europe/London:20221207T133000
DTEND;TZID=Europe/London:20221207T143000
DTSTAMP:20260423T173444
CREATED:20220721T113621Z
LAST-MODIFIED:20220721T113621Z
UID:7425-1670419800-1670423400@www.ironactonprimaryschool.co.uk
SUMMARY:Nativity
DESCRIPTION:
URL:https://www.ironactonprimaryschool.co.uk/event/nativity-8/
END:VEVENT
BEGIN:VEVENT
DTSTART;TZID=Europe/London:20221206T180000
DTEND;TZID=Europe/London:20221206T190000
DTSTAMP:20260423T173444
CREATED:20220721T113520Z
LAST-MODIFIED:20220721T113520Z
UID:7423-1670349600-1670353200@www.ironactonprimaryschool.co.uk
SUMMARY:Nativity
DESCRIPTION:
URL:https://www.ironactonprimaryschool.co.uk/event/nativity-7/
END:VEVENT
BEGIN:VEVENT
DTSTART;TZID=Europe/London:20221205T080000
DTEND;TZID=Europe/London:20221205T120000
DTSTAMP:20260423T173444
CREATED:20221007T153336Z
LAST-MODIFIED:20221007T153351Z
UID:7679-1670227200-1670241600@www.ironactonprimaryschool.co.uk
SUMMARY:School Photographs - Individual and Siblings
DESCRIPTION:
URL:https://www.ironactonprimaryschool.co.uk/event/school-photographs-individual-and-siblings/
END:VEVENT
BEGIN:VEVENT
DTSTART;VALUE=DATE:20221203
DTEND;VALUE=DATE:20221204
DTSTAMP:20260423T173444
CREATED:20220721T122435Z
LAST-MODIFIED:20220721T122435Z
UID:7487-1670025600-1670111999@www.ironactonprimaryschool.co.uk
SUMMARY:Christmas Fair
DESCRIPTION:
URL:https://www.ironactonprimaryschool.co.uk/event/christmas-fair-4/
END:VEVENT
BEGIN:VEVENT
DTSTART;TZID=Europe/London:20221202T153000
DTEND;TZID=Europe/London:20221202T160000
DTSTAMP:20260423T173444
CREATED:20221007T152436Z
LAST-MODIFIED:20221007T152436Z
UID:7671-1669995000-1669996800@www.ironactonprimaryschool.co.uk
SUMMARY:Friends Uniform Swap
DESCRIPTION:
URL:https://www.ironactonprimaryschool.co.uk/event/friends-uniform-swap-2/
END:VEVENT
BEGIN:VEVENT
DTSTART;TZID=Europe/London:20221202T130000
DTEND;TZID=Europe/London:20221202T140000
DTSTAMP:20260423T173444
CREATED:20221111T140340Z
LAST-MODIFIED:20221111T140346Z
UID:7794-1669986000-1669989600@www.ironactonprimaryschool.co.uk
SUMMARY:Christmas Craft Afternoon
DESCRIPTION:
URL:https://www.ironactonprimaryschool.co.uk/event/christmas-craft-afternoon/
END:VEVENT
BEGIN:VEVENT
DTSTART;TZID=Europe/London:20221130T083000
DTEND;TZID=Europe/London:20221130T090000
DTSTAMP:20260423T173444
CREATED:20221123T110816Z
LAST-MODIFIED:20221123T110816Z
UID:7798-1669797000-1669798800@www.ironactonprimaryschool.co.uk
SUMMARY:Bags 2 School Collection
DESCRIPTION:
URL:https://www.ironactonprimaryschool.co.uk/event/bags-2-school-collection/
END:VEVENT
BEGIN:VEVENT
DTSTART;TZID=Europe/London:20221129T113000
DTEND;TZID=Europe/London:20221129T120000
DTSTAMP:20260423T173444
CREATED:20221123T111210Z
LAST-MODIFIED:20221123T111210Z
UID:7800-1669721400-1669723200@www.ironactonprimaryschool.co.uk
SUMMARY:Golden Eagles Clarinet Concert
DESCRIPTION:
URL:https://www.ironactonprimaryschool.co.uk/event/golden-eagles-clarinet-concert/
END:VEVENT
BEGIN:VEVENT
DTSTART;VALUE=DATE:20221128
DTEND;VALUE=DATE:20221129
DTSTAMP:20260423T173444
CREATED:20220721T122135Z
LAST-MODIFIED:20220721T122135Z
UID:7485-1669593600-1669679999@www.ironactonprimaryschool.co.uk
SUMMARY:Flu Immunisations - School Health Nursing Team Visit
DESCRIPTION:
URL:https://www.ironactonprimaryschool.co.uk/event/flu-immunisations-school-health-nursing-team-visit/
END:VEVENT
BEGIN:VEVENT
DTSTART;VALUE=DATE:20221125
DTEND;VALUE=DATE:20221126
DTSTAMP:20260423T173444
CREATED:20220511T095931Z
LAST-MODIFIED:20220511T100347Z
UID:7305-1669334400-1669420799@www.ironactonprimaryschool.co.uk
SUMMARY:Inset Day 2
DESCRIPTION:
URL:https://www.ironactonprimaryschool.co.uk/event/inset-day-2-6/
END:VEVENT
BEGIN:VEVENT
DTSTART;VALUE=DATE:20221123
DTEND;VALUE=DATE:20221124
DTSTAMP:20260423T173444
CREATED:20221007T151055Z
LAST-MODIFIED:20221007T151055Z
UID:7662-1669161600-1669247999@www.ironactonprimaryschool.co.uk
SUMMARY:Unique Voice Drama Group Visit
DESCRIPTION:
URL:https://www.ironactonprimaryschool.co.uk/event/unique-voice-drama-group-visit/
END:VEVENT
BEGIN:VEVENT
DTSTART;TZID=Europe/London:20221122T090000
DTEND;TZID=Europe/London:20221122T120000
DTSTAMP:20260423T173444
CREATED:20220330T122803Z
LAST-MODIFIED:20220330T122803Z
UID:7238-1669107600-1669118400@www.ironactonprimaryschool.co.uk
SUMMARY:Year 6 visit to Life Skills Study Centre
DESCRIPTION:
URL:https://www.ironactonprimaryschool.co.uk/event/year-6-visit-to-life-skills-study-centre/
END:VEVENT
BEGIN:VEVENT
DTSTART;TZID=Europe/London:20221121T080000
DTEND;TZID=Europe/London:20221125T170000
DTSTAMP:20260423T173444
CREATED:20220721T113254Z
LAST-MODIFIED:20221007T150837Z
UID:7419-1669017600-1669395600@www.ironactonprimaryschool.co.uk
SUMMARY:Anti-bullying Week
DESCRIPTION:
URL:https://www.ironactonprimaryschool.co.uk/event/anti-bullying-week-2/
END:VEVENT
BEGIN:VEVENT
DTSTART;VALUE=DATE:20221121
DTEND;VALUE=DATE:20221122
DTSTAMP:20260423T173444
CREATED:20221111T135824Z
LAST-MODIFIED:20221111T135836Z
UID:7792-1668988800-1669075199@www.ironactonprimaryschool.co.uk
SUMMARY:Odd Socks Day
DESCRIPTION:
URL:https://www.ironactonprimaryschool.co.uk/event/odd-socks-day-2/
END:VEVENT
BEGIN:VEVENT
DTSTART;VALUE=DATE:20221117
DTEND;VALUE=DATE:20221118
DTSTAMP:20260423T173444
CREATED:20221111T135749Z
LAST-MODIFIED:20221111T135754Z
UID:7789-1668643200-1668729599@www.ironactonprimaryschool.co.uk
SUMMARY:Christmas Fair Tombola Collection
DESCRIPTION:
URL:https://www.ironactonprimaryschool.co.uk/event/christmas-fair-tombola-collection/
END:VEVENT
BEGIN:VEVENT
DTSTART;VALUE=DATE:20221117
DTEND;VALUE=DATE:20221118
DTSTAMP:20260423T173444
CREATED:20221007T151519Z
LAST-MODIFIED:20221111T140000Z
UID:7666-1668643200-1668729599@www.ironactonprimaryschool.co.uk
SUMMARY:Children in Need - Non Uniform Day
DESCRIPTION:
URL:https://www.ironactonprimaryschool.co.uk/event/children-in-need/
END:VEVENT
BEGIN:VEVENT
DTSTART;TZID=Europe/London:20221116T180000
DTEND;TZID=Europe/London:20221116T190000
DTSTAMP:20260423T173444
CREATED:20221007T150710Z
LAST-MODIFIED:20221007T150710Z
UID:7660-1668621600-1668625200@www.ironactonprimaryschool.co.uk
SUMMARY:Online Safety Information Session
DESCRIPTION:
URL:https://www.ironactonprimaryschool.co.uk/event/online-safety-information-session/
END:VEVENT
BEGIN:VEVENT
DTSTART;TZID=Europe/London:20221115T130000
DTEND;TZID=Europe/London:20221115T150000
DTSTAMP:20260423T173444
CREATED:20220330T122609Z
LAST-MODIFIED:20220330T122609Z
UID:7234-1668517200-1668524400@www.ironactonprimaryschool.co.uk
SUMMARY:Golden Eagles Swimming at Yate Leisure Centre
DESCRIPTION:
URL:https://www.ironactonprimaryschool.co.uk/event/golden-eagles-swimming-at-yate-leisure-centre-5/
END:VEVENT
BEGIN:VEVENT
DTSTART;VALUE=DATE:20221114
DTEND;VALUE=DATE:20221115
DTSTAMP:20260423T173444
CREATED:20221007T151321Z
LAST-MODIFIED:20221007T151801Z
UID:7664-1668384000-1668470399@www.ironactonprimaryschool.co.uk
SUMMARY:Year 6 NCMP Checks with School Health Nursing Team
DESCRIPTION:
URL:https://www.ironactonprimaryschool.co.uk/event/year-6-ncmp-with-school-health-nursing-team/
END:VEVENT
BEGIN:VEVENT
DTSTART;TZID=Europe/London:20221113T100000
DTEND;TZID=Europe/London:20221113T110000
DTSTAMP:20260423T173444
CREATED:20221007T150528Z
LAST-MODIFIED:20221007T150537Z
UID:7658-1668333600-1668337200@www.ironactonprimaryschool.co.uk
SUMMARY:Remembrance Family Service
DESCRIPTION:
URL:https://www.ironactonprimaryschool.co.uk/event/remembrance-family-service/
LOCATION:St James The Less Chuch
END:VEVENT
END:VCALENDAR