BEGIN:VCALENDAR
VERSION:2.0
PRODID:-//Iron Acton - ECPv6.15.20//NONSGML v1.0//EN
CALSCALE:GREGORIAN
METHOD:PUBLISH
X-WR-CALNAME:Iron Acton
X-ORIGINAL-URL:https://www.ironactonprimaryschool.co.uk
X-WR-CALDESC:Events for Iron Acton
REFRESH-INTERVAL;VALUE=DURATION:PT1H
X-Robots-Tag:noindex
X-PUBLISHED-TTL:PT1H
BEGIN:VTIMEZONE
TZID:Europe/London
BEGIN:DAYLIGHT
TZOFFSETFROM:+0000
TZOFFSETTO:+0100
TZNAME:BST
DTSTART:20210328T010000
END:DAYLIGHT
BEGIN:STANDARD
TZOFFSETFROM:+0100
TZOFFSETTO:+0000
TZNAME:GMT
DTSTART:20211031T010000
END:STANDARD
BEGIN:DAYLIGHT
TZOFFSETFROM:+0000
TZOFFSETTO:+0100
TZNAME:BST
DTSTART:20220327T010000
END:DAYLIGHT
BEGIN:STANDARD
TZOFFSETFROM:+0100
TZOFFSETTO:+0000
TZNAME:GMT
DTSTART:20221030T010000
END:STANDARD
BEGIN:DAYLIGHT
TZOFFSETFROM:+0000
TZOFFSETTO:+0100
TZNAME:BST
DTSTART:20230326T010000
END:DAYLIGHT
BEGIN:STANDARD
TZOFFSETFROM:+0100
TZOFFSETTO:+0000
TZNAME:GMT
DTSTART:20231029T010000
END:STANDARD
END:VTIMEZONE
BEGIN:VEVENT
DTSTART;TZID=Europe/London:20221101T130000
DTEND;TZID=Europe/London:20221101T150000
DTSTAMP:20260423T171018
CREATED:20220330T122453Z
LAST-MODIFIED:20220330T122453Z
UID:7232-1667307600-1667314800@www.ironactonprimaryschool.co.uk
SUMMARY:Golden Eagles Swimming at Yate Leisure Centre
DESCRIPTION:
URL:https://www.ironactonprimaryschool.co.uk/event/golden-eagles-swimming-at-yate-leisure-centre-4/
END:VEVENT
BEGIN:VEVENT
DTSTART;VALUE=DATE:20221031
DTEND;VALUE=DATE:20221101
DTSTAMP:20260423T171018
CREATED:20221007T152834Z
LAST-MODIFIED:20221007T152834Z
UID:7677-1667174400-1667260799@www.ironactonprimaryschool.co.uk
SUMMARY:Secondary School Application Deadline
DESCRIPTION:
URL:https://www.ironactonprimaryschool.co.uk/event/secondary-school-application-deadline/
END:VEVENT
BEGIN:VEVENT
DTSTART;VALUE=DATE:20221030
DTEND;VALUE=DATE:20221031
DTSTAMP:20260423T171018
CREATED:20221007T152320Z
LAST-MODIFIED:20221007T152342Z
UID:7669-1667088000-1667174399@www.ironactonprimaryschool.co.uk
SUMMARY:Friends Halloween Trail
DESCRIPTION:
URL:https://www.ironactonprimaryschool.co.uk/event/friends-halloween-trail/
END:VEVENT
BEGIN:VEVENT
DTSTART;TZID=Europe/London:20221022T080000
DTEND;TZID=Europe/London:20221030T170000
DTSTAMP:20260423T171018
CREATED:20220721T105944Z
LAST-MODIFIED:20220721T110052Z
UID:7399-1666425600-1667149200@www.ironactonprimaryschool.co.uk
SUMMARY:October break
DESCRIPTION:
URL:https://www.ironactonprimaryschool.co.uk/event/october-break-3/
END:VEVENT
BEGIN:VEVENT
DTSTART;VALUE=DATE:20221020
DTEND;VALUE=DATE:20221021
DTSTAMP:20260423T171018
CREATED:20220721T113120Z
LAST-MODIFIED:20220721T113120Z
UID:7417-1666224000-1666310399@www.ironactonprimaryschool.co.uk
SUMMARY:Outdoor Learning Day
DESCRIPTION:
URL:https://www.ironactonprimaryschool.co.uk/event/outdoor-learning-day-9/
END:VEVENT
BEGIN:VEVENT
DTSTART;TZID=Europe/London:20221019T160000
DTEND;TZID=Europe/London:20221019T190000
DTSTAMP:20260423T171018
CREATED:20220922T122147Z
LAST-MODIFIED:20220922T122147Z
UID:7618-1666195200-1666206000@www.ironactonprimaryschool.co.uk
SUMMARY:Parent Teacher meetings
DESCRIPTION:
URL:https://www.ironactonprimaryschool.co.uk/event/parent-teacher-meetings-12/
END:VEVENT
BEGIN:VEVENT
DTSTART;TZID=Europe/London:20221018T153000
DTEND;TZID=Europe/London:20221018T180000
DTSTAMP:20260423T171018
CREATED:20220721T112926Z
LAST-MODIFIED:20220922T122112Z
UID:7415-1666107000-1666116000@www.ironactonprimaryschool.co.uk
SUMMARY:Parent Teacher Meetings
DESCRIPTION:
URL:https://www.ironactonprimaryschool.co.uk/event/parent-teacher-meetings-10/
END:VEVENT
BEGIN:VEVENT
DTSTART;TZID=Europe/London:20221018T130000
DTEND;TZID=Europe/London:20221018T150000
DTSTAMP:20260423T171018
CREATED:20220330T122351Z
LAST-MODIFIED:20220330T122351Z
UID:7230-1666098000-1666105200@www.ironactonprimaryschool.co.uk
SUMMARY:Golden Eagles Swimming at Yate Leisure Centre
DESCRIPTION:
URL:https://www.ironactonprimaryschool.co.uk/event/golden-eagles-swimming-at-yate-leisure-centre-3/
END:VEVENT
BEGIN:VEVENT
DTSTART;TZID=Europe/London:20221012T143000
DTEND;TZID=Europe/London:20221012T150000
DTSTAMP:20260423T171018
CREATED:20221007T150023Z
LAST-MODIFIED:20221007T150023Z
UID:7652-1665585000-1665586800@www.ironactonprimaryschool.co.uk
SUMMARY:Barn Owls Phonics Information Session
DESCRIPTION:
URL:https://www.ironactonprimaryschool.co.uk/event/barn-owls-phonics-information-session/
END:VEVENT
BEGIN:VEVENT
DTSTART;TZID=Europe/London:20221012T130000
DTEND;TZID=Europe/London:20221012T150000
DTSTAMP:20260423T171018
CREATED:20220721T121334Z
LAST-MODIFIED:20220721T121334Z
UID:7479-1665579600-1665586800@www.ironactonprimaryschool.co.uk
SUMMARY:Year 6 Bikeability
DESCRIPTION:
URL:https://www.ironactonprimaryschool.co.uk/event/year-6-bikeability-5/
END:VEVENT
BEGIN:VEVENT
DTSTART;TZID=Europe/London:20221011T153000
DTEND;TZID=Europe/London:20221011T170000
DTSTAMP:20260423T171018
CREATED:20221007T145919Z
LAST-MODIFIED:20221007T145919Z
UID:7650-1665502200-1665507600@www.ironactonprimaryschool.co.uk
SUMMARY:School Football Match - IA v Hawkesbury (Home)
DESCRIPTION:
URL:https://www.ironactonprimaryschool.co.uk/event/school-football-match-ia-v-hawkesbury-home/
END:VEVENT
BEGIN:VEVENT
DTSTART;TZID=Europe/London:20221011T130000
DTEND;TZID=Europe/London:20221011T150000
DTSTAMP:20260423T171018
CREATED:20220330T122250Z
LAST-MODIFIED:20220330T122250Z
UID:7228-1665493200-1665500400@www.ironactonprimaryschool.co.uk
SUMMARY:Golden Eagles Swimming at Yate Leisure Centre
DESCRIPTION:
URL:https://www.ironactonprimaryschool.co.uk/event/golden-eagles-swimming-at-yate-leisure-centre-2/
END:VEVENT
BEGIN:VEVENT
DTSTART;TZID=Europe/London:20221010T133000
DTEND;TZID=Europe/London:20221010T143000
DTSTAMP:20260423T171018
CREATED:20220721T121603Z
LAST-MODIFIED:20220721T121603Z
UID:7483-1665408600-1665412200@www.ironactonprimaryschool.co.uk
SUMMARY:Reception 2023 Open Event
DESCRIPTION:
URL:https://www.ironactonprimaryschool.co.uk/event/reception-2023-open-event/
END:VEVENT
BEGIN:VEVENT
DTSTART;TZID=Europe/London:20221009T100000
DTEND;TZID=Europe/London:20221009T110000
DTSTAMP:20260423T171018
CREATED:20221007T150132Z
LAST-MODIFIED:20221007T150150Z
UID:7654-1665309600-1665313200@www.ironactonprimaryschool.co.uk
SUMMARY:Harvest Family Service
DESCRIPTION:
URL:https://www.ironactonprimaryschool.co.uk/event/harvest-family-service/
LOCATION:St James The Less Chuch
END:VEVENT
BEGIN:VEVENT
DTSTART;TZID=Europe/London:20221007T140000
DTEND;TZID=Europe/London:20221007T150000
DTSTAMP:20260423T171018
CREATED:20220721T112758Z
LAST-MODIFIED:20220721T112758Z
UID:7413-1665151200-1665154800@www.ironactonprimaryschool.co.uk
SUMMARY:Harvest Service
DESCRIPTION:
URL:https://www.ironactonprimaryschool.co.uk/event/harvest-service-2/
END:VEVENT
BEGIN:VEVENT
DTSTART;VALUE=DATE:20221007
DTEND;VALUE=DATE:20221008
DTSTAMP:20260423T171018
CREATED:20220721T121504Z
LAST-MODIFIED:20220721T121504Z
UID:7481-1665100800-1665187199@www.ironactonprimaryschool.co.uk
SUMMARY:Food Bank Collection
DESCRIPTION:
URL:https://www.ironactonprimaryschool.co.uk/event/food-bank-collection/
END:VEVENT
BEGIN:VEVENT
DTSTART;TZID=Europe/London:20221005T130000
DTEND;TZID=Europe/London:20221005T150000
DTSTAMP:20260423T171018
CREATED:20220721T121251Z
LAST-MODIFIED:20220721T121251Z
UID:7477-1664974800-1664982000@www.ironactonprimaryschool.co.uk
SUMMARY:Year 6 Bikeability
DESCRIPTION:
URL:https://www.ironactonprimaryschool.co.uk/event/year-6-bikeability-4/
END:VEVENT
BEGIN:VEVENT
DTSTART;TZID=Europe/London:20221004T130000
DTEND;TZID=Europe/London:20221004T150000
DTSTAMP:20260423T171018
CREATED:20220330T122057Z
LAST-MODIFIED:20220330T122057Z
UID:7226-1664888400-1664895600@www.ironactonprimaryschool.co.uk
SUMMARY:Golden Eagles Swimming at Yate Leisure Centre
DESCRIPTION:
URL:https://www.ironactonprimaryschool.co.uk/event/golden-eagles-swimming-at-yate-leisure-centre/
END:VEVENT
BEGIN:VEVENT
DTSTART;VALUE=DATE:20221003
DTEND;VALUE=DATE:20221004
DTSTAMP:20260423T171018
CREATED:20220721T113400Z
LAST-MODIFIED:20220721T113400Z
UID:7421-1664755200-1664841599@www.ironactonprimaryschool.co.uk
SUMMARY:Black history month begins
DESCRIPTION:
URL:https://www.ironactonprimaryschool.co.uk/event/black-history-month-begins/
END:VEVENT
BEGIN:VEVENT
DTSTART;TZID=Europe/London:20220930T080000
DTEND;TZID=Europe/London:20220930T170000
DTSTAMP:20260423T171018
CREATED:20220922T121830Z
LAST-MODIFIED:20220922T121830Z
UID:7616-1664524800-1664557200@www.ironactonprimaryschool.co.uk
SUMMARY:Explorer dome
DESCRIPTION:
URL:https://www.ironactonprimaryschool.co.uk/event/explorer-dome/
END:VEVENT
BEGIN:VEVENT
DTSTART;VALUE=DATE:20220930
DTEND;VALUE=DATE:20221001
DTSTAMP:20260423T171018
CREATED:20220721T120743Z
LAST-MODIFIED:20220721T120743Z
UID:7475-1664496000-1664582399@www.ironactonprimaryschool.co.uk
SUMMARY:Macmillan Coffee Morning
DESCRIPTION:
URL:https://www.ironactonprimaryschool.co.uk/event/macmillan-coffee-morning/
END:VEVENT
BEGIN:VEVENT
DTSTART;TZID=Europe/London:20220928T130000
DTEND;TZID=Europe/London:20220928T150000
DTSTAMP:20260423T171018
CREATED:20220721T120541Z
LAST-MODIFIED:20220721T120541Z
UID:7471-1664370000-1664377200@www.ironactonprimaryschool.co.uk
SUMMARY:Year 6 Bikeability
DESCRIPTION:
URL:https://www.ironactonprimaryschool.co.uk/event/year-6-bikeability-3/
END:VEVENT
BEGIN:VEVENT
DTSTART;VALUE=DATE:20220926
DTEND;VALUE=DATE:20220927
DTSTAMP:20260423T171018
CREATED:20220207T103213Z
LAST-MODIFIED:20220207T103213Z
UID:7096-1664150400-1664236799@www.ironactonprimaryschool.co.uk
SUMMARY:Inset Day 1
DESCRIPTION:
URL:https://www.ironactonprimaryschool.co.uk/event/inset-day-1-6/
END:VEVENT
BEGIN:VEVENT
DTSTART;TZID=Europe/London:20220921T130000
DTEND;TZID=Europe/London:20220921T150000
DTSTAMP:20260423T171018
CREATED:20220721T120455Z
LAST-MODIFIED:20220721T120455Z
UID:7469-1663765200-1663772400@www.ironactonprimaryschool.co.uk
SUMMARY:Year 6 Bikeability
DESCRIPTION:
URL:https://www.ironactonprimaryschool.co.uk/event/year-6-bikeability-2/
END:VEVENT
BEGIN:VEVENT
DTSTART;TZID=Europe/London:20220915T133000
DTEND;TZID=Europe/London:20220915T143000
DTSTAMP:20260423T171018
CREATED:20220721T120653Z
LAST-MODIFIED:20220721T120653Z
UID:7473-1663248600-1663252200@www.ironactonprimaryschool.co.uk
SUMMARY:Reception Class 2023 Open Event
DESCRIPTION:
URL:https://www.ironactonprimaryschool.co.uk/event/reception-class-2023-open-event/
END:VEVENT
BEGIN:VEVENT
DTSTART;TZID=Europe/London:20220914T130000
DTEND;TZID=Europe/London:20220914T150000
DTSTAMP:20260423T171018
CREATED:20220721T120405Z
LAST-MODIFIED:20220721T120405Z
UID:7467-1663160400-1663167600@www.ironactonprimaryschool.co.uk
SUMMARY:Year 6 Bikeability
DESCRIPTION:
URL:https://www.ironactonprimaryschool.co.uk/event/year-6-bikeability/
END:VEVENT
BEGIN:VEVENT
DTSTART;VALUE=DATE:20220910
DTEND;VALUE=DATE:20220911
DTSTAMP:20260423T171018
CREATED:20220721T120312Z
LAST-MODIFIED:20220721T120312Z
UID:7465-1662768000-1662854399@www.ironactonprimaryschool.co.uk
SUMMARY:Horticultural Show
DESCRIPTION:
URL:https://www.ironactonprimaryschool.co.uk/event/horticultural-show/
END:VEVENT
BEGIN:VEVENT
DTSTART;VALUE=DATE:20220722
DTEND;VALUE=DATE:20220901
DTSTAMP:20260423T171018
CREATED:20210315T143041Z
LAST-MODIFIED:20220721T105519Z
UID:6311-1658448000-1661990399@www.ironactonprimaryschool.co.uk
SUMMARY:Summer Break
DESCRIPTION:
URL:https://www.ironactonprimaryschool.co.uk/event/summer-break-5/
END:VEVENT
BEGIN:VEVENT
DTSTART;TZID=Europe/London:20220720T140000
DTEND;TZID=Europe/London:20220720T150000
DTSTAMP:20260423T171018
CREATED:20210720T203628Z
LAST-MODIFIED:20210720T203628Z
UID:6667-1658325600-1658329200@www.ironactonprimaryschool.co.uk
SUMMARY:Year 6 leavers service
DESCRIPTION:
URL:https://www.ironactonprimaryschool.co.uk/event/year-6-leavers-service-3/
END:VEVENT
BEGIN:VEVENT
DTSTART;TZID=Europe/London:20220715T180000
DTEND;TZID=Europe/London:20220715T200000
DTSTAMP:20260423T171018
CREATED:20220318T160355Z
LAST-MODIFIED:20220318T160419Z
UID:7192-1657908000-1657915200@www.ironactonprimaryschool.co.uk
SUMMARY:Summer Disco
DESCRIPTION:
URL:https://www.ironactonprimaryschool.co.uk/event/summer-disco-2/
END:VEVENT
END:VCALENDAR