BEGIN:VCALENDAR
VERSION:2.0
PRODID:-//Iron Acton - ECPv6.15.20//NONSGML v1.0//EN
CALSCALE:GREGORIAN
METHOD:PUBLISH
X-WR-CALNAME:Iron Acton
X-ORIGINAL-URL:https://www.ironactonprimaryschool.co.uk
X-WR-CALDESC:Events for Iron Acton
REFRESH-INTERVAL;VALUE=DURATION:PT1H
X-Robots-Tag:noindex
X-PUBLISHED-TTL:PT1H
BEGIN:VTIMEZONE
TZID:Europe/London
BEGIN:DAYLIGHT
TZOFFSETFROM:+0000
TZOFFSETTO:+0100
TZNAME:BST
DTSTART:20210328T010000
END:DAYLIGHT
BEGIN:STANDARD
TZOFFSETFROM:+0100
TZOFFSETTO:+0000
TZNAME:GMT
DTSTART:20211031T010000
END:STANDARD
BEGIN:DAYLIGHT
TZOFFSETFROM:+0000
TZOFFSETTO:+0100
TZNAME:BST
DTSTART:20220327T010000
END:DAYLIGHT
BEGIN:STANDARD
TZOFFSETFROM:+0100
TZOFFSETTO:+0000
TZNAME:GMT
DTSTART:20221030T010000
END:STANDARD
BEGIN:DAYLIGHT
TZOFFSETFROM:+0000
TZOFFSETTO:+0100
TZNAME:BST
DTSTART:20230326T010000
END:DAYLIGHT
BEGIN:STANDARD
TZOFFSETFROM:+0100
TZOFFSETTO:+0000
TZNAME:GMT
DTSTART:20231029T010000
END:STANDARD
END:VTIMEZONE
BEGIN:VEVENT
DTSTART;VALUE=DATE:20220614
DTEND;VALUE=DATE:20220615
DTSTAMP:20260423T233341
CREATED:20220114T200601Z
LAST-MODIFIED:20220114T200601Z
UID:7028-1655164800-1655251199@www.ironactonprimaryschool.co.uk
SUMMARY:Giant dart board games
DESCRIPTION:
URL:https://www.ironactonprimaryschool.co.uk/event/giant-dart-board-games/
END:VEVENT
BEGIN:VEVENT
DTSTART;TZID=Europe/London:20220613T080000
DTEND;TZID=Europe/London:20220617T170000
DTSTAMP:20260423T233341
CREATED:20210720T203010Z
LAST-MODIFIED:20210720T203010Z
UID:6659-1655107200-1655485200@www.ironactonprimaryschool.co.uk
SUMMARY:Health week
DESCRIPTION:
URL:https://www.ironactonprimaryschool.co.uk/event/health-week-6/
END:VEVENT
BEGIN:VEVENT
DTSTART;VALUE=DATE:20220613
DTEND;VALUE=DATE:20220614
DTSTAMP:20260423T233341
CREATED:20220114T200507Z
LAST-MODIFIED:20220114T200507Z
UID:7026-1655078400-1655164799@www.ironactonprimaryschool.co.uk
SUMMARY:Skip2bfit Skipping Workshops
DESCRIPTION:
URL:https://www.ironactonprimaryschool.co.uk/event/skip2bfit-skipping-workshops/
END:VEVENT
BEGIN:VEVENT
DTSTART;VALUE=DATE:20220612
DTEND;VALUE=DATE:20220613
DTSTAMP:20260423T233341
CREATED:20211016T103512Z
LAST-MODIFIED:20211016T103512Z
UID:6834-1654992000-1655078399@www.ironactonprimaryschool.co.uk
SUMMARY:Family Church Service
DESCRIPTION:
URL:https://www.ironactonprimaryschool.co.uk/event/family-church-service-7/
END:VEVENT
BEGIN:VEVENT
DTSTART;VALUE=DATE:20220608
DTEND;VALUE=DATE:20220609
DTSTAMP:20260423T233341
CREATED:20220511T095341Z
LAST-MODIFIED:20220511T095341Z
UID:7297-1654646400-1654732799@www.ironactonprimaryschool.co.uk
SUMMARY:Barn Owls Class Trip to Wild Place
DESCRIPTION:
URL:https://www.ironactonprimaryschool.co.uk/event/barn-owls-class-trip-to-wild-place/
END:VEVENT
BEGIN:VEVENT
DTSTART;TZID=Europe/London:20220607T093000
DTEND;TZID=Europe/London:20220607T113000
DTSTAMP:20260423T233341
CREATED:20220311T165235Z
LAST-MODIFIED:20220311T165235Z
UID:7168-1654594200-1654601400@www.ironactonprimaryschool.co.uk
SUMMARY:Alliance Orchestra Rehearsal
DESCRIPTION:
URL:https://www.ironactonprimaryschool.co.uk/event/alliance-orchestra-rehearsal-3/
END:VEVENT
BEGIN:VEVENT
DTSTART;VALUE=DATE:20220530
DTEND;VALUE=DATE:20220606
DTSTAMP:20260423T233341
CREATED:20210315T142425Z
LAST-MODIFIED:20210315T142425Z
UID:6308-1653868800-1654473599@www.ironactonprimaryschool.co.uk
SUMMARY:May Break
DESCRIPTION:
URL:https://www.ironactonprimaryschool.co.uk/event/may-break-5/
END:VEVENT
BEGIN:VEVENT
DTSTART;TZID=Europe/London:20220527T143000
DTEND;TZID=Europe/London:20220527T153000
DTSTAMP:20260423T233341
CREATED:20220520T172828Z
LAST-MODIFIED:20220520T172828Z
UID:7327-1653661800-1653665400@www.ironactonprimaryschool.co.uk
SUMMARY:Jubilee Celebration Assembly with Families
DESCRIPTION:
URL:https://www.ironactonprimaryschool.co.uk/event/jubilee-celebration-assembly-with-families/
END:VEVENT
BEGIN:VEVENT
DTSTART;VALUE=DATE:20220527
DTEND;VALUE=DATE:20220528
DTSTAMP:20260423T233341
CREATED:20220504T125427Z
LAST-MODIFIED:20220504T125427Z
UID:7275-1653609600-1653695999@www.ironactonprimaryschool.co.uk
SUMMARY:Platinum Jubilee Picnic Lunch
DESCRIPTION:
URL:https://www.ironactonprimaryschool.co.uk/event/platinum-jubilee-picnic-lunch/
END:VEVENT
BEGIN:VEVENT
DTSTART;VALUE=DATE:20220527
DTEND;VALUE=DATE:20220528
DTSTAMP:20260423T233341
CREATED:20210720T202823Z
LAST-MODIFIED:20210720T202829Z
UID:6657-1653609600-1653695999@www.ironactonprimaryschool.co.uk
SUMMARY:Outdoor learning day
DESCRIPTION:
URL:https://www.ironactonprimaryschool.co.uk/event/outdoor-learning-day-10/
END:VEVENT
BEGIN:VEVENT
DTSTART;VALUE=DATE:20220526
DTEND;VALUE=DATE:20220527
DTSTAMP:20260423T233341
CREATED:20220311T165535Z
LAST-MODIFIED:20220311T165535Z
UID:7172-1653523200-1653609599@www.ironactonprimaryschool.co.uk
SUMMARY:Falcons Class Trip
DESCRIPTION:
URL:https://www.ironactonprimaryschool.co.uk/event/falcons-class-trip/
END:VEVENT
BEGIN:VEVENT
DTSTART;TZID=Europe/London:20220525T153000
DTEND;TZID=Europe/London:20220525T163000
DTSTAMP:20260423T233341
CREATED:20220520T173236Z
LAST-MODIFIED:20220520T173236Z
UID:7330-1653492600-1653496200@www.ironactonprimaryschool.co.uk
SUMMARY:Football Match @ Iron Acton v Hawkesbury
DESCRIPTION:
URL:https://www.ironactonprimaryschool.co.uk/event/football-match-iron-acton-v-hawkesbury/
END:VEVENT
BEGIN:VEVENT
DTSTART;TZID=Europe/London:20220524T150000
DTEND;TZID=Europe/London:20220524T170000
DTSTAMP:20260423T233341
CREATED:20220511T095649Z
LAST-MODIFIED:20220511T095649Z
UID:7301-1653404400-1653411600@www.ironactonprimaryschool.co.uk
SUMMARY:Netball Match @ Hawkesbury Upton Primary
DESCRIPTION:
URL:https://www.ironactonprimaryschool.co.uk/event/netball-match-hawkesbury-upton-primary/
END:VEVENT
BEGIN:VEVENT
DTSTART;TZID=Europe/London:20220524T093000
DTEND;TZID=Europe/London:20220524T113000
DTSTAMP:20260423T233341
CREATED:20220311T165141Z
LAST-MODIFIED:20220311T165141Z
UID:7166-1653384600-1653391800@www.ironactonprimaryschool.co.uk
SUMMARY:Alliance Orchestra Rehearsal
DESCRIPTION:
URL:https://www.ironactonprimaryschool.co.uk/event/alliance-orchestra-rehearsal-2/
END:VEVENT
BEGIN:VEVENT
DTSTART;VALUE=DATE:20220523
DTEND;VALUE=DATE:20220524
DTSTAMP:20260423T233341
CREATED:20220318T172237Z
LAST-MODIFIED:20220318T172237Z
UID:7211-1653264000-1653350399@www.ironactonprimaryschool.co.uk
SUMMARY:Art Day
DESCRIPTION:
URL:https://www.ironactonprimaryschool.co.uk/event/art-day-3/
END:VEVENT
BEGIN:VEVENT
DTSTART;TZID=Europe/London:20220518T144500
DTEND;TZID=Europe/London:20220518T151500
DTSTAMP:20260423T233341
CREATED:20220504T125905Z
LAST-MODIFIED:20220504T125905Z
UID:7277-1652885100-1652886900@www.ironactonprimaryschool.co.uk
SUMMARY:Barn Owls Parent Sharing Session
DESCRIPTION:
URL:https://www.ironactonprimaryschool.co.uk/event/barn-owls-parent-sharing-session/
END:VEVENT
BEGIN:VEVENT
DTSTART;TZID=Europe/London:20220516T080000
DTEND;TZID=Europe/London:20220520T170000
DTSTAMP:20260423T233341
CREATED:20220318T172103Z
LAST-MODIFIED:20220318T172103Z
UID:7209-1652688000-1653066000@www.ironactonprimaryschool.co.uk
SUMMARY:Walk to School Week
DESCRIPTION:
URL:https://www.ironactonprimaryschool.co.uk/event/walk-to-school-week-2/
END:VEVENT
BEGIN:VEVENT
DTSTART;TZID=Europe/London:20220516T080000
DTEND;TZID=Europe/London:20220520T170000
DTSTAMP:20260423T233341
CREATED:20210720T202723Z
LAST-MODIFIED:20210720T202738Z
UID:6655-1652688000-1653066000@www.ironactonprimaryschool.co.uk
SUMMARY:Mental Health Awareness Week
DESCRIPTION:
URL:https://www.ironactonprimaryschool.co.uk/event/mental-health-awareness-week/
END:VEVENT
BEGIN:VEVENT
DTSTART;TZID=Europe/London:20220509T080000
DTEND;TZID=Europe/London:20220513T170000
DTSTAMP:20260423T233341
CREATED:20210720T202600Z
LAST-MODIFIED:20230125T132106Z
UID:6653-1652083200-1652461200@www.ironactonprimaryschool.co.uk
SUMMARY:Key Stage
DESCRIPTION:
URL:https://www.ironactonprimaryschool.co.uk/event/ks2-sats-3/
END:VEVENT
BEGIN:VEVENT
DTSTART;VALUE=DATE:20220508
DTEND;VALUE=DATE:20220509
DTSTAMP:20260423T233341
CREATED:20211016T102851Z
LAST-MODIFIED:20211016T102851Z
UID:6830-1651968000-1652054399@www.ironactonprimaryschool.co.uk
SUMMARY:Family Church Service
DESCRIPTION:
URL:https://www.ironactonprimaryschool.co.uk/event/family-church-service-6/
END:VEVENT
BEGIN:VEVENT
DTSTART;TZID=Europe/London:20220505T150000
DTEND;TZID=Europe/London:20220505T153000
DTSTAMP:20260423T233341
CREATED:20220504T125251Z
LAST-MODIFIED:20220504T125251Z
UID:7273-1651762800-1651764600@www.ironactonprimaryschool.co.uk
SUMMARY:Golden Eagles RSE Parent Information Session
DESCRIPTION:
URL:https://www.ironactonprimaryschool.co.uk/event/golden-eagles-rse-parent-information-session/
END:VEVENT
BEGIN:VEVENT
DTSTART;TZID=Europe/London:20220503T083000
DTEND;TZID=Europe/London:20220503T110000
DTSTAMP:20260423T233341
CREATED:20220114T200151Z
LAST-MODIFIED:20220114T200151Z
UID:7024-1651566600-1651575600@www.ironactonprimaryschool.co.uk
SUMMARY:Class photographs
DESCRIPTION:
URL:https://www.ironactonprimaryschool.co.uk/event/class-photographs/
END:VEVENT
BEGIN:VEVENT
DTSTART;TZID=Europe/London:20220503T083000
DTEND;TZID=Europe/London:20220503T103000
DTSTAMP:20260423T233341
CREATED:20220330T111817Z
LAST-MODIFIED:20220330T111817Z
UID:7224-1651566600-1651573800@www.ironactonprimaryschool.co.uk
SUMMARY:Leaver's photographs
DESCRIPTION:
URL:https://www.ironactonprimaryschool.co.uk/event/leavers-photographs/
END:VEVENT
BEGIN:VEVENT
DTSTART;VALUE=DATE:20220503
DTEND;VALUE=DATE:20220504
DTSTAMP:20260423T233341
CREATED:20220504T125119Z
LAST-MODIFIED:20220504T125131Z
UID:7271-1651536000-1651622399@www.ironactonprimaryschool.co.uk
SUMMARY:Buzzards Class - Brass Music Lessons
DESCRIPTION:
URL:https://www.ironactonprimaryschool.co.uk/event/buzzards-class-brass-music-lessons/
END:VEVENT
BEGIN:VEVENT
DTSTART;VALUE=DATE:20220503
DTEND;VALUE=DATE:20220504
DTSTAMP:20260423T233341
CREATED:20220504T125015Z
LAST-MODIFIED:20220504T125015Z
UID:7269-1651536000-1651622399@www.ironactonprimaryschool.co.uk
SUMMARY:Futsal Taster Session
DESCRIPTION:
URL:https://www.ironactonprimaryschool.co.uk/event/futsal-taster-session/
END:VEVENT
BEGIN:VEVENT
DTSTART;VALUE=DATE:20220502
DTEND;VALUE=DATE:20220503
DTSTAMP:20260423T233341
CREATED:20220216T180411Z
LAST-MODIFIED:20220216T180411Z
UID:7107-1651449600-1651535999@www.ironactonprimaryschool.co.uk
SUMMARY:May Day - Maypole Dancing
DESCRIPTION:
URL:https://www.ironactonprimaryschool.co.uk/event/may-day-maypole-dancing/
END:VEVENT
BEGIN:VEVENT
DTSTART;VALUE=DATE:20220502
DTEND;VALUE=DATE:20220503
DTSTAMP:20260423T233341
CREATED:20210720T202446Z
LAST-MODIFIED:20210720T202446Z
UID:6651-1651449600-1651535999@www.ironactonprimaryschool.co.uk
SUMMARY:May Day
DESCRIPTION:
URL:https://www.ironactonprimaryschool.co.uk/event/may-day-4/
END:VEVENT
BEGIN:VEVENT
DTSTART;VALUE=DATE:20220429
DTEND;VALUE=DATE:20220430
DTSTAMP:20260423T233341
CREATED:20220328T142925Z
LAST-MODIFIED:20220328T143025Z
UID:7221-1651190400-1651276799@www.ironactonprimaryschool.co.uk
SUMMARY:Non-Uniform Day for Tombola Prizes
DESCRIPTION:
URL:https://www.ironactonprimaryschool.co.uk/event/talent-show-auditions-2/
END:VEVENT
BEGIN:VEVENT
DTSTART;TZID=Europe/London:20220426T144500
DTEND;TZID=Europe/London:20220426T151500
DTSTAMP:20260423T233341
CREATED:20220318T160009Z
LAST-MODIFIED:20220330T111352Z
UID:7185-1650984300-1650986100@www.ironactonprimaryschool.co.uk
SUMMARY:Buzzards Enquiry Exhibition
DESCRIPTION:
URL:https://www.ironactonprimaryschool.co.uk/event/buzzards-enquiry-exhibition/
END:VEVENT
BEGIN:VEVENT
DTSTART;TZID=Europe/London:20220426T130000
DTEND;TZID=Europe/London:20220426T150000
DTSTAMP:20260423T233341
CREATED:20220318T160156Z
LAST-MODIFIED:20220330T111142Z
UID:7187-1650978000-1650985200@www.ironactonprimaryschool.co.uk
SUMMARY:Travelling Kitchen with Buzzards
DESCRIPTION:
URL:https://www.ironactonprimaryschool.co.uk/event/travelling-kitchen-with-buzzards/
END:VEVENT
END:VCALENDAR